BEGIN:VCALENDAR
VERSION:2.0
PRODID:-//Föreningsarkiven i Stockholms län - ECPv6.15.20//NONSGML v1.0//EN
CALSCALE:GREGORIAN
METHOD:PUBLISH
X-ORIGINAL-URL:https://fslarkiv.se
X-WR-CALDESC:Händelser för Föreningsarkiven i Stockholms län
REFRESH-INTERVAL;VALUE=DURATION:PT1H
X-Robots-Tag:noindex
X-PUBLISHED-TTL:PT1H
BEGIN:VTIMEZONE
TZID:Europe/Helsinki
BEGIN:DAYLIGHT
TZOFFSETFROM:+0200
TZOFFSETTO:+0300
TZNAME:EEST
DTSTART:20150329T010000
END:DAYLIGHT
BEGIN:STANDARD
TZOFFSETFROM:+0300
TZOFFSETTO:+0200
TZNAME:EET
DTSTART:20151025T010000
END:STANDARD
BEGIN:DAYLIGHT
TZOFFSETFROM:+0200
TZOFFSETTO:+0300
TZNAME:EEST
DTSTART:20160327T010000
END:DAYLIGHT
BEGIN:STANDARD
TZOFFSETFROM:+0300
TZOFFSETTO:+0200
TZNAME:EET
DTSTART:20161030T010000
END:STANDARD
BEGIN:DAYLIGHT
TZOFFSETFROM:+0200
TZOFFSETTO:+0300
TZNAME:EEST
DTSTART:20170326T010000
END:DAYLIGHT
BEGIN:STANDARD
TZOFFSETFROM:+0300
TZOFFSETTO:+0200
TZNAME:EET
DTSTART:20171029T010000
END:STANDARD
END:VTIMEZONE
BEGIN:VEVENT
DTSTART;TZID=Europe/Helsinki:20161108T134500
DTEND;TZID=Europe/Helsinki:20161108T160000
DTSTAMP:20260425T154220
CREATED:20160922T122233Z
LAST-MODIFIED:20160923T072255Z
UID:800-1478612700-1478620800@fslarkiv.se
SUMMARY:Extra insatt studiebesök till Slottsarkivet
DESCRIPTION:Välkomna på extra insatt studiebesök till Slottsarkivet på Kungliga slottet! \nTisdagen den 8 november kl 13.45Samling sker utanför entrén till Slottsbacken 1\, Västra valvet\, Yttre borggården. \nViktigt är att man kommer i tid\, då vi släpps in gemensamt i grupp\, detta på grund av säkerhetsföreskrifter. \nEndast föranmälda personer släpps in\, ta med giltig ID-handling. \nEfter visningen bjuder FSL på kaffe och kaka på Stadsmissionens café i Grillska huset\, Stortorget\, Gamla Stan. \nAntalet platser är begränsat\, var god anmäl dig till kansliet på e-post info@foreningsarkiven.a.se \nHjärtligt välkommen!
URL:https://fslarkiv.se/handelse/extra-insatt-studiebesok-till-slottsarkivet/
CATEGORIES:Studiebesök
ATTACH;FMTTYPE=image/jpeg:https://fslarkiv.se/wp-content/uploads/2016/09/kungliga-slottet.jpg
END:VEVENT
BEGIN:VEVENT
DTSTART;TZID=Europe/Helsinki:20161103T170000
DTEND;TZID=Europe/Helsinki:20161103T200000
DTSTAMP:20260425T154220
CREATED:20160926T154331Z
LAST-MODIFIED:20161020T114536Z
UID:810-1478192400-1478203200@fslarkiv.se
SUMMARY:Fortsättningskurs i arkivkunskap
DESCRIPTION:Nylansering av fortsättningskursen! \nNu med nytt kursmaterial och ny kursledare! \nKursen repeterar kort grundkurs och sedan går den djupare in på hur man ordnar och förtecknar sitt arkiv. \nKursen har praktisk förankring med övningar. \nTa gärna med er frågor som ni har och ställ dem till vår duktiga kursledare som är en yrkesverksam arkivarie. \nKursen hålls på Stockholms stadsarkiv\, sal Hyllan. \nDet ingår en kaffepaus – FSL bjuder på fika. \nAnmälan görs via kansliet! \nTill e-post: info@foreningsarkiven.a.se \n  \nKurslängd: 3 timmar\nMålgrupp: Lokala föreningar och distriktsorganisationer\nPlats: Anordnas på olika platser i länet i samarbete mellan FSL och lokal arrangör eller centralt i Stockholm tillsammans med någon distriktsorganisation\, samt även på Stadsarkivet.
URL:https://fslarkiv.se/handelse/fortsattningskurs-i-arkivkunskap/
LOCATION:Stockholms stadsarkiv\, Kungsklippan 6 samt via Zoom\, Kungsklippan 6\, Stockholm
CATEGORIES:Kurser
ATTACH;FMTTYPE=image/jpeg:https://fslarkiv.se/wp-content/uploads/2016/09/Fortsättningskurs.jpg
END:VEVENT
BEGIN:VEVENT
DTSTART;TZID=Europe/Helsinki:20161025T134500
DTEND;TZID=Europe/Helsinki:20161025T160000
DTSTAMP:20260425T154220
CREATED:20160920T113844Z
LAST-MODIFIED:20160923T072312Z
UID:780-1477403100-1477411200@fslarkiv.se
SUMMARY:Studiebesök till Slottsarkivet
DESCRIPTION:Välkomna på studiebesök till Slottsarkivet på Kungliga slottet! \nTisdagen den 25 oktober kl 13.45 \n \nSamling sker utanför entrén till Slottsbacken 1\, Västra valvet\, Yttre borggården. \nViktigt är att man kommer i tid\, då vi släpps in gemensamt i grupp\, detta på grund av säkerhetsföreskrifter. \nEndast föranmälda personer släpps in\, ta med giltig ID-handling. \nEfter visningen bjuder FSL på kaffe och kaka i Gamla stan. \nAntalet platser är begränsat\, var god anmäl dig till kansliet på e-post info@foreningsarkiven.a.se
URL:https://fslarkiv.se/handelse/studiebesok-till-slottsarkivet/
CATEGORIES:Studiebesök
ATTACH;FMTTYPE=image/jpeg:https://fslarkiv.se/wp-content/uploads/2016/09/Slottet.jpg
END:VEVENT
BEGIN:VEVENT
DTSTART;TZID=Europe/Helsinki:20161020T160000
DTEND;TZID=Europe/Helsinki:20161020T180000
DTSTAMP:20260425T154220
CREATED:20160810T111357Z
LAST-MODIFIED:20160922T122942Z
UID:693-1476979200-1476986400@fslarkiv.se
SUMMARY:FSL informerar om sin verksamhet
DESCRIPTION:Träffa FSL på Stadsarkivet! \nEn torsdag i månaden när Stadsarkivet har kvällsöppet så finns FSL på plats och berättar om sin verksamhet. \nVi svarar på dina frågor om arkivering. \nKom och hör om vårt kursutbud! \nIngen föranmälan krävs. \nVarmt välkomna!
URL:https://fslarkiv.se/handelse/fsl-informerar-om-sin-verksamhet-2/
LOCATION:Stockholms stadsarkiv\, Kungsklippan 6 samt via Zoom\, Kungsklippan 6\, Stockholm
CATEGORIES:Övrigt
ATTACH;FMTTYPE=image/png:https://fslarkiv.se/wp-content/uploads/2016/05/cropped-fsl-favicon.png
END:VEVENT
BEGIN:VEVENT
DTSTART;TZID=Europe/Helsinki:20161013T170000
DTEND;TZID=Europe/Helsinki:20161013T200000
DTSTAMP:20260425T154220
CREATED:20160809T113300Z
LAST-MODIFIED:20160929T094633Z
UID:686-1476378000-1476388800@fslarkiv.se
SUMMARY:Fotokurs - analoga bilder
DESCRIPTION:Denna kurs går igenom hur man ska ta hand om och bevara sina analoga fotografier. \nPå vilket sätt de ska förvaras för att inte förstöras och hur man kan ordna och förteckna sina bilder i ett arkiv. \nKursledare är en yrkesverksam arkivarie som visar eget material och exempel på vad som händer med foton som förvaras fel. \n  \nKaffepaus ingår\, det går bra att ta med egen matsäck om så önskas. \nLokal: Hyllan\, Stockholms stadsarkiv \nKursen är kostnadsfri för FSL:s medlemmar. \nAnmälan görs nedan via formuläret.
URL:https://fslarkiv.se/handelse/fotokurs-analoga-bilder/
LOCATION:Stockholms stadsarkiv\, Kungsklippan 6 samt via Zoom\, Kungsklippan 6\, Stockholm
CATEGORIES:Kurser
ATTACH;FMTTYPE=image/jpeg:https://fslarkiv.se/wp-content/uploads/2016/04/Kamera-bild.jpg
END:VEVENT
BEGIN:VEVENT
DTSTART;TZID=Europe/Helsinki:20161006T170000
DTEND;TZID=Europe/Helsinki:20161006T200000
DTSTAMP:20260425T154220
CREATED:20160809T112911Z
LAST-MODIFIED:20160928T110023Z
UID:684-1475773200-1475784000@fslarkiv.se
SUMMARY:Skriva föreningshistorik
DESCRIPTION:Ordet föreningshistorik kan inrymma en hel del – den egna historien som organisation men också utvecklingen inom intresseområdet i tid och rum. \nArkivet\, eget och på andra håll\, är en given utgångspunkt bland flera. Men det är viktigt att tidigt bestämma sig för syfte\, målgrupp\, arbetssätt och medverkande. Och att komma igång i tillräckligt god tid med så klara förutsättningar som möjligt för finansiering och ambitionsnivå. I själva genomförandet tillkommer målanpassade krav på källkritik\, språkbehandling och teknisk utformning. Kursen vill ge utgångspunkter för historikarbete av olika slag liksom konkreta exempel på skrifter att värdera och diskutera. De medverkande förutsätts ta med sig planer och erfarenheter från hemmaplan. \nAnmälan görs nedan via formuläret. \nKaffepaus ingår\, det går bra att ta med egen matsäck om så önskas. \nLokal: Projektrummet\, Stockholms stadsarkiv. \nKursen är kostnadsfri för FSL:s medlemmar.
URL:https://fslarkiv.se/handelse/skriva-foreningshistorik/
LOCATION:Stockholms stadsarkiv\, Kungsklippan 6 samt via Zoom\, Kungsklippan 6\, Stockholm
CATEGORIES:Kurser
ATTACH;FMTTYPE=image/jpeg:https://fslarkiv.se/wp-content/uploads/2016/09/penna.jpg
END:VEVENT
BEGIN:VEVENT
DTSTART;TZID=Europe/Helsinki:20161001T100000
DTEND;TZID=Europe/Helsinki:20161001T150000
DTSTAMP:20260425T154220
CREATED:20160927T085641Z
LAST-MODIFIED:20160927T090000Z
UID:813-1475316000-1475334000@fslarkiv.se
SUMMARY:Släktforskarmässa
DESCRIPTION:Lördag den 1 oktober mellan kl 10-15 på Stockholms Stadsarkiv är det Släktforskarmässa! \nStadsarkivet har arkivlördag med program. \nFSL finns på plats\, kom och besök oss! \nRepresentanter från alla stora släktforskarorganisationer finns också på plats. \nHjärtligt välkomna! \nLäs mer om Stadsarkivets program
URL:https://fslarkiv.se/handelse/slaktforskarmassa/
LOCATION:Stockholms stadsarkiv\, Kungsklippan 6 samt via Zoom\, Kungsklippan 6\, Stockholm
CATEGORIES:Övrigt
ATTACH;FMTTYPE=image/jpeg:https://fslarkiv.se/wp-content/uploads/2016/09/släktträd.jpg
END:VEVENT
BEGIN:VEVENT
DTSTART;TZID=Europe/Helsinki:20160929T170000
DTEND;TZID=Europe/Helsinki:20160929T200000
DTSTAMP:20260425T154220
CREATED:20160809T112233Z
LAST-MODIFIED:20161019T145804Z
UID:682-1475168400-1475179200@fslarkiv.se
SUMMARY:Grundkurs i arkivkunskap
DESCRIPTION:Anmälan görs nedan via formuläret. \nKaffepaus ingår\, det går bra att ta med egen matsäck om så önskas. \nLokal: Projektrummet\, Stockholms stadsarkiv. \nKursen är kostnadsfri för FSL:s medlemmar.
URL:https://fslarkiv.se/handelse/grundkurs-i-arkivkunskap/
LOCATION:Stockholms stadsarkiv\, Kungsklippan 6 samt via Zoom\, Kungsklippan 6\, Stockholm
CATEGORIES:Kurser
ORGANIZER;CN="FSL":MAILTO:info@foreningsarkiven.a.se
END:VEVENT
BEGIN:VEVENT
DTSTART;TZID=Europe/Helsinki:20160922T160000
DTEND;TZID=Europe/Helsinki:20160922T180000
DTSTAMP:20260425T154220
CREATED:20160810T111237Z
LAST-MODIFIED:20160922T122922Z
UID:692-1474560000-1474567200@fslarkiv.se
SUMMARY:FSL informerar om sin verksamhet
DESCRIPTION:Träffa FSL på Stadsarkivet! \nEn torsdag i månaden när Stadsarkivet har kvällsöppet så finns FSL på plats och berättar om sin verksamhet. \nVi svarar på dina frågor om arkivering. \nKom och hör om vårt kursutbud! \nIngen föranmälan krävs. \nVarmt välkomna!
URL:https://fslarkiv.se/handelse/fsl-informerar-om-sin-verksamhet/
LOCATION:Stockholms stadsarkiv\, Kungsklippan 6 samt via Zoom\, Kungsklippan 6\, Stockholm
CATEGORIES:Övrigt
ATTACH;FMTTYPE=image/png:https://fslarkiv.se/wp-content/uploads/2016/05/cropped-fsl-favicon.png
END:VEVENT
BEGIN:VEVENT
DTSTART;VALUE=DATE:20160822
DTEND;VALUE=DATE:20160823
DTSTAMP:20260425T154220
CREATED:20160809T102847Z
LAST-MODIFIED:20160809T102943Z
UID:681-1471824000-1471910399@fslarkiv.se
SUMMARY:Manusstopp Ordna & Vårda nr 3
DESCRIPTION:Sista dag för bidrag att inkomma till FSL:s medlemsblad Ordna & Vårda nr 3.
URL:https://fslarkiv.se/handelse/manusstopp-ordna-varda-nr-3/
CATEGORIES:Övrigt
END:VEVENT
END:VCALENDAR